BEGIN:VCALENDAR
VERSION:2.0
PRODID:-// eRoom plugin //NONSGML v1.0//EN
CALSCALE:GREGORIAN
BEGIN:VEVENT
UID:eRoom-1776672168
SUMMARY:“Tetori ROZË: Kanceri i GJIRIT &#8220;,  Fushatë Sensibilizimi: Parandalo dhe shpëto Jetë!
LOCATION:
DESCRIPTION
URL;VALUE=URI:https://wordpress.org/plugins/eroom-zoom-meetings-webinar/
DTSTART:20230522T120000Z
DTEND:20230522T160000Z
DTSTAMP:20260420T080248Z
BEGIN:VALARM
ACTION:DISPLAY
RIGGER;RELATED=START:-PT00H15M00S
BEGIN:VALARM
END:VEVENT
END:VCALENDAR